BEGIN:VCALENDAR
VERSION:2.0
PRODID:-//Foundation Housing - ECPv6.15.18//NONSGML v1.0//EN
CALSCALE:GREGORIAN
METHOD:PUBLISH
X-WR-CALNAME:Foundation Housing
X-ORIGINAL-URL:https://www.foundationhousing.org.au
X-WR-CALDESC:Events for Foundation Housing
REFRESH-INTERVAL;VALUE=DURATION:PT1H
X-Robots-Tag:noindex
X-PUBLISHED-TTL:PT1H
BEGIN:VTIMEZONE
TZID:Asia/Shanghai
BEGIN:STANDARD
TZOFFSETFROM:+0800
TZOFFSETTO:+0800
TZNAME:CST
DTSTART:20230101T000000
END:STANDARD
END:VTIMEZONE
BEGIN:VEVENT
DTSTART;TZID=Asia/Shanghai:20240709T100000
DTEND;TZID=Asia/Shanghai:20240709T230000
DTSTAMP:20260420T030242
CREATED:20240702T033735Z
LAST-MODIFIED:20240702T034213Z
UID:9118-1720519200-1720566000@www.foundationhousing.org.au
SUMMARY:Digital Skills Training
DESCRIPTION:Robert\, our very own Foundation Housing resident\, has been trained as a “Digital Champion” as part of the WA Digital Inclusion Project. He will be offering Digital Literacy training to other residents who are keen to learn about digital safety\, accessing internet resources and connecting to other digital supports.  \nEveryone is welcome to attend. Contact the Community Engagement Coordinator (Maureen 0400 656 005) to register or for more information.
URL:https://www.foundationhousing.org.au/event/digital-skills-training/
LOCATION:135 Parry St\, Perth\, 135 Parry St\, Perth\, WA\, 6000\, Australia
END:VEVENT
END:VCALENDAR