BEGIN:VCALENDAR
VERSION:2.0
PRODID:-//Foundation Housing - ECPv6.15.18//NONSGML v1.0//EN
CALSCALE:GREGORIAN
METHOD:PUBLISH
X-WR-CALNAME:Foundation Housing
X-ORIGINAL-URL:https://www.foundationhousing.org.au
X-WR-CALDESC:Events for Foundation Housing
REFRESH-INTERVAL;VALUE=DURATION:PT1H
X-Robots-Tag:noindex
X-PUBLISHED-TTL:PT1H
BEGIN:VTIMEZONE
TZID:Asia/Shanghai
BEGIN:STANDARD
TZOFFSETFROM:+0800
TZOFFSETTO:+0800
TZNAME:CST
DTSTART:20230101T000000
END:STANDARD
END:VTIMEZONE
BEGIN:VEVENT
DTSTART;TZID=Asia/Shanghai:20240729T100000
DTEND;TZID=Asia/Shanghai:20240729T123000
DTSTAMP:20260420T031446
CREATED:20240404T022208Z
LAST-MODIFIED:20240702T051333Z
UID:8645-1722247200-1722256200@www.foundationhousing.org.au
SUMMARY:Communication in Relationships-workshop
DESCRIPTION:Do you think that your communication skills have contributed to problems in your current or previous relationships? Maybe you want to improve your communication skills in readiness for your next relationship! \nThis workshop is facilitated by Relationships Australia. \nTo participate\, you must register via the Community Engagement Coordinator.
URL:https://www.foundationhousing.org.au/event/communication-in-relationships-workshop/
LOCATION:Relationships Australia\, 22 Southport St\, West Leederville\, WA\, Australia
END:VEVENT
END:VCALENDAR