BEGIN:VCALENDAR
VERSION:2.0
PRODID:-//Foundation Housing - ECPv6.15.18//NONSGML v1.0//EN
CALSCALE:GREGORIAN
METHOD:PUBLISH
X-WR-CALNAME:Foundation Housing
X-ORIGINAL-URL:https://www.foundationhousing.org.au
X-WR-CALDESC:Events for Foundation Housing
REFRESH-INTERVAL;VALUE=DURATION:PT1H
X-Robots-Tag:noindex
X-PUBLISHED-TTL:PT1H
BEGIN:VTIMEZONE
TZID:Asia/Shanghai
BEGIN:STANDARD
TZOFFSETFROM:+0800
TZOFFSETTO:+0800
TZNAME:CST
DTSTART:20230101T000000
END:STANDARD
END:VTIMEZONE
BEGIN:VEVENT
DTSTART;TZID=Asia/Shanghai:20240827T133000
DTEND;TZID=Asia/Shanghai:20240827T143000
DTSTAMP:20260420T044444
CREATED:20240702T063909Z
LAST-MODIFIED:20240726T080625Z
UID:9170-1724765400-1724769000@www.foundationhousing.org.au
SUMMARY:LUMA Menopause Talk- Ellenbrook
DESCRIPTION:LUMA women’s services will be offering information about menopause. Feel free to ask questions! \nEllenbrook Community Resource Centre (Inside Ellenbrook Library)
URL:https://www.foundationhousing.org.au/event/luma-menopause-talk-ellenbrook/
LOCATION:WA
END:VEVENT
END:VCALENDAR