BEGIN:VCALENDAR
VERSION:2.0
PRODID:-//Foundation Housing - ECPv6.15.18//NONSGML v1.0//EN
CALSCALE:GREGORIAN
METHOD:PUBLISH
X-ORIGINAL-URL:https://www.foundationhousing.org.au
X-WR-CALDESC:Events for Foundation Housing
REFRESH-INTERVAL;VALUE=DURATION:PT1H
X-Robots-Tag:noindex
X-PUBLISHED-TTL:PT1H
BEGIN:VTIMEZONE
TZID:Asia/Shanghai
BEGIN:STANDARD
TZOFFSETFROM:+0800
TZOFFSETTO:+0800
TZNAME:CST
DTSTART:20230101T000000
END:STANDARD
END:VTIMEZONE
BEGIN:VEVENT
DTSTART;TZID=Asia/Shanghai:20241002T130000
DTEND;TZID=Asia/Shanghai:20241002T140000
DTSTAMP:20260420T063136
CREATED:20240911T020344Z
LAST-MODIFIED:20240911T020344Z
UID:9582-1727874000-1727877600@www.foundationhousing.org.au
SUMMARY:BBQ
DESCRIPTION:Every Foundation Housing resident/tenant is welcome to grab a burger\, have a chat and listen to music while enjoying some sunshine in the outdoor area at Newcastle Lodge surrounded by beautiful gardens.
URL:https://www.foundationhousing.org.au/event/bbq-4/
LOCATION:Newcastle Street Lodge\, 231-245 Newcastle Street\, Northbridge\, Western Australia\, 6003\, Australia
ORGANIZER;CN="Leah - Community Engagement":MAILTO:LEAHL@foundationhousing.org.au
END:VEVENT
END:VCALENDAR