BEGIN:VCALENDAR
VERSION:2.0
PRODID:-//Foundation Housing - ECPv6.15.18//NONSGML v1.0//EN
CALSCALE:GREGORIAN
METHOD:PUBLISH
X-WR-CALNAME:Foundation Housing
X-ORIGINAL-URL:https://www.foundationhousing.org.au
X-WR-CALDESC:Events for Foundation Housing
REFRESH-INTERVAL;VALUE=DURATION:PT1H
X-Robots-Tag:noindex
X-PUBLISHED-TTL:PT1H
BEGIN:VTIMEZONE
TZID:Asia/Shanghai
BEGIN:STANDARD
TZOFFSETFROM:+0800
TZOFFSETTO:+0800
TZNAME:CST
DTSTART:20230101T000000
END:STANDARD
END:VTIMEZONE
BEGIN:VEVENT
DTSTART;TZID=Asia/Shanghai:20241008T103000
DTEND;TZID=Asia/Shanghai:20241008T113000
DTSTAMP:20260420T080918
CREATED:20240911T021408Z
LAST-MODIFIED:20240912T082109Z
UID:9584-1728383400-1728387000@www.foundationhousing.org.au
SUMMARY:Mental Health Discussion-Mental Health Week Event
DESCRIPTION:A special event to acknowledge Mental Health Week. Mental health is an important aspect of our overall wellbeing. Take some time to get information and ask questions at this discussion facilitated by LUMA. Some topics of discussion: what issues are impacting our mental health\, where to get help\, simple steps we can take to help improve our mental health. \nNote: All tenants and residents are encouraged to join this event! Morning tea will be provided.
URL:https://www.foundationhousing.org.au/event/mental-health-discussion-mental-health-week-event/
LOCATION:Bennett Street Lodge\, 67 Bennett St\, East Perth\, WA\, Australia
END:VEVENT
END:VCALENDAR