BEGIN:VCALENDAR
VERSION:2.0
PRODID:-//Foundation Housing - ECPv6.15.18//NONSGML v1.0//EN
CALSCALE:GREGORIAN
METHOD:PUBLISH
X-WR-CALNAME:Foundation Housing
X-ORIGINAL-URL:https://www.foundationhousing.org.au
X-WR-CALDESC:Events for Foundation Housing
REFRESH-INTERVAL;VALUE=DURATION:PT1H
X-Robots-Tag:noindex
X-PUBLISHED-TTL:PT1H
BEGIN:VTIMEZONE
TZID:Asia/Shanghai
BEGIN:STANDARD
TZOFFSETFROM:+0800
TZOFFSETTO:+0800
TZNAME:CST
DTSTART:20230101T000000
END:STANDARD
END:VTIMEZONE
BEGIN:VEVENT
DTSTART;TZID=Asia/Shanghai:20241029T110000
DTEND;TZID=Asia/Shanghai:20241029T120000
DTSTAMP:20260420T080916
CREATED:20240912T082414Z
LAST-MODIFIED:20241022T062345Z
UID:9598-1730199600-1730203200@www.foundationhousing.org.au
SUMMARY:Bingo and Fun Activity
DESCRIPTION:Join us for an hour of fun and connection at this bingo game and a fun activity. Get connected and play two rounds of bingo with the chance to win a $25 gift voucher. \nMorning tea is provided. \nContact the Community Engagement Officer to get involved (you will need access to the building) or come on down if you live at the lodge.
URL:https://www.foundationhousing.org.au/event/bingo-and-fun-activity-3/
LOCATION:Bennett St Lodge\, 67 Bennett St\, East Perth\, WA\, Australia
ORGANIZER;CN="Leah - Community Engagement":MAILTO:LEAHL@foundationhousing.org.au
END:VEVENT
END:VCALENDAR