BEGIN:VCALENDAR
VERSION:2.0
PRODID:-//Foundation Housing - ECPv6.15.18//NONSGML v1.0//EN
CALSCALE:GREGORIAN
METHOD:PUBLISH
X-ORIGINAL-URL:https://www.foundationhousing.org.au
X-WR-CALDESC:Events for Foundation Housing
REFRESH-INTERVAL;VALUE=DURATION:PT1H
X-Robots-Tag:noindex
X-PUBLISHED-TTL:PT1H
BEGIN:VTIMEZONE
TZID:Asia/Shanghai
BEGIN:STANDARD
TZOFFSETFROM:+0800
TZOFFSETTO:+0800
TZNAME:CST
DTSTART:20230101T000000
END:STANDARD
END:VTIMEZONE
BEGIN:VEVENT
DTSTART;TZID=Asia/Shanghai:20240703T130000
DTEND;TZID=Asia/Shanghai:20240703T140000
DTSTAMP:20260420T014708
CREATED:20240702T032320Z
LAST-MODIFIED:20240702T034345Z
UID:9111-1720011600-1720015200@www.foundationhousing.org.au
SUMMARY:Bingo and Fun Activity
DESCRIPTION:Join us for an hour of fun and connection at this bingo game and activity. Get connected and play two rounds of bingo with the chance to win a $25 gift voucher. \nMorning tea is provided. \nContact the Community Engagement Officer to get involved or come on down if you live at the lodge. \n \n 
URL:https://www.foundationhousing.org.au/event/bingo-at-bennett-st-lodge/
LOCATION:Bennett Street Lodge\, 67 Bennett St\, East Perth\, WA\, Australia
END:VEVENT
BEGIN:VEVENT
DTSTART;TZID=Asia/Shanghai:20240709T100000
DTEND;TZID=Asia/Shanghai:20240709T230000
DTSTAMP:20260420T014708
CREATED:20240702T033735Z
LAST-MODIFIED:20240702T034213Z
UID:9118-1720519200-1720566000@www.foundationhousing.org.au
SUMMARY:Digital Skills Training
DESCRIPTION:Robert\, our very own Foundation Housing resident\, has been trained as a “Digital Champion” as part of the WA Digital Inclusion Project. He will be offering Digital Literacy training to other residents who are keen to learn about digital safety\, accessing internet resources and connecting to other digital supports.  \nEveryone is welcome to attend. Contact the Community Engagement Coordinator (Maureen 0400 656 005) to register or for more information.
URL:https://www.foundationhousing.org.au/event/digital-skills-training/
LOCATION:135 Parry St\, Perth\, 135 Parry St\, Perth\, WA\, 6000\, Australia
END:VEVENT
BEGIN:VEVENT
DTSTART;TZID=Asia/Shanghai:20240710T121500
DTEND;TZID=Asia/Shanghai:20240710T140000
DTSTAMP:20260420T014708
CREATED:20240702T040333Z
LAST-MODIFIED:20240702T044915Z
UID:9141-1720613700-1720620000@www.foundationhousing.org.au
SUMMARY:BBQ and Boxing
DESCRIPTION:All residents/tenants are welcome to join us for boxing and a delicious BBQ. Foundation Housing has joined forces with Wellness Central to offer boxing for fitness and mental health benefits. Get connected to other residents in the neighbourhood: have a chat\, listen to music and enjoy some heartwarming food. \nBoxing 12:15-1pm \nBBQ 1-2pm
URL:https://www.foundationhousing.org.au/event/bbq/
LOCATION:Newcastle Street Lodge\, 231-245 Newcastle Street\, Northbridge\, Western Australia\, 6003\, Australia
END:VEVENT
BEGIN:VEVENT
DTSTART;TZID=Asia/Shanghai:20240724T130000
DTEND;TZID=Asia/Shanghai:20240724T140000
DTSTAMP:20260420T014708
CREATED:20240702T045504Z
LAST-MODIFIED:20240702T061545Z
UID:9146-1721826000-1721829600@www.foundationhousing.org.au
SUMMARY:BBQ and Recycling Info Session
DESCRIPTION:Join us at Swan River Lodge in the picturesque area of Bassendean near the river. A delicious bbq will be provided along with a chat and information about recycling in the City of Swan. All residents/tenants are welcome to join. For more information or to RSVP\, call or SMS Leah 0482 180 755.
URL:https://www.foundationhousing.org.au/event/bbq-and-recycling-info-session/
LOCATION:Swan River Lodge\, 1 North Rd.\, Bassendean\, WA\, 6054\, Australia
END:VEVENT
BEGIN:VEVENT
DTSTART;TZID=Asia/Shanghai:20240729T100000
DTEND;TZID=Asia/Shanghai:20240729T123000
DTSTAMP:20260420T014708
CREATED:20240404T022208Z
LAST-MODIFIED:20240702T051333Z
UID:8645-1722247200-1722256200@www.foundationhousing.org.au
SUMMARY:Communication in Relationships-workshop
DESCRIPTION:Do you think that your communication skills have contributed to problems in your current or previous relationships? Maybe you want to improve your communication skills in readiness for your next relationship! \nThis workshop is facilitated by Relationships Australia. \nTo participate\, you must register via the Community Engagement Coordinator.
URL:https://www.foundationhousing.org.au/event/communication-in-relationships-workshop/
LOCATION:Relationships Australia\, 22 Southport St\, West Leederville\, WA\, Australia
END:VEVENT
END:VCALENDAR